BEGIN:VCALENDAR
VERSION:2.0
PRODID:-//jEvents 2.0 for Joomla//EN
CALSCALE:GREGORIAN
METHOD:PUBLISH
BEGIN:VTIMEZONE
TZID:Europe/Berlin
BEGIN:STANDARD
DTSTART:20241027T020000
RDATE:20250330T030000
TZOFFSETFROM:+0200
TZOFFSETTO:+0100
TZNAME:Europe/Berlin CET
END:STANDARD
BEGIN:STANDARD
DTSTART:20251026T020000
RDATE:20260329T030000
TZOFFSETFROM:+0200
TZOFFSETTO:+0100
TZNAME:Europe/Berlin CET
END:STANDARD
BEGIN:STANDARD
DTSTART:20261025T020000
RDATE:20270328T030000
TZOFFSETFROM:+0200
TZOFFSETTO:+0100
TZNAME:Europe/Berlin CET
END:STANDARD
BEGIN:STANDARD
DTSTART:20271031T020000
RDATE:20280326T030000
TZOFFSETFROM:+0200
TZOFFSETTO:+0100
TZNAME:Europe/Berlin CET
END:STANDARD
BEGIN:STANDARD
DTSTART:20281029T020000
RDATE:20290325T030000
TZOFFSETFROM:+0200
TZOFFSETTO:+0100
TZNAME:Europe/Berlin CET
END:STANDARD
BEGIN:STANDARD
DTSTART:20291028T020000
RDATE:20300331T030000
TZOFFSETFROM:+0200
TZOFFSETTO:+0100
TZNAME:Europe/Berlin CET
END:STANDARD
BEGIN:STANDARD
DTSTART:20301027T020000
RDATE:20310330T030000
TZOFFSETFROM:+0200
TZOFFSETTO:+0100
TZNAME:Europe/Berlin CET
END:STANDARD
BEGIN:STANDARD
DTSTART:20311026T020000
RDATE:20320328T030000
TZOFFSETFROM:+0200
TZOFFSETTO:+0100
TZNAME:Europe/Berlin CET
END:STANDARD
BEGIN:DAYLIGHT
DTSTART:20240910T000000
RDATE:20241027T020000
TZOFFSETFROM:+0100
TZOFFSETTO:+0200
TZNAME:Europe/Berlin CEST
END:DAYLIGHT
BEGIN:DAYLIGHT
DTSTART:20250330T030000
RDATE:20251026T020000
TZOFFSETFROM:+0100
TZOFFSETTO:+0200
TZNAME:Europe/Berlin CEST
END:DAYLIGHT
BEGIN:DAYLIGHT
DTSTART:20260329T030000
RDATE:20261025T020000
TZOFFSETFROM:+0100
TZOFFSETTO:+0200
TZNAME:Europe/Berlin CEST
END:DAYLIGHT
BEGIN:DAYLIGHT
DTSTART:20270328T030000
RDATE:20271031T020000
TZOFFSETFROM:+0100
TZOFFSETTO:+0200
TZNAME:Europe/Berlin CEST
END:DAYLIGHT
BEGIN:DAYLIGHT
DTSTART:20280326T030000
RDATE:20281029T020000
TZOFFSETFROM:+0100
TZOFFSETTO:+0200
TZNAME:Europe/Berlin CEST
END:DAYLIGHT
BEGIN:DAYLIGHT
DTSTART:20290325T030000
RDATE:20291028T020000
TZOFFSETFROM:+0100
TZOFFSETTO:+0200
TZNAME:Europe/Berlin CEST
END:DAYLIGHT
BEGIN:DAYLIGHT
DTSTART:20300331T030000
RDATE:20301027T020000
TZOFFSETFROM:+0100
TZOFFSETTO:+0200
TZNAME:Europe/Berlin CEST
END:DAYLIGHT
BEGIN:DAYLIGHT
DTSTART:20310330T030000
RDATE:20311026T020000
TZOFFSETFROM:+0100
TZOFFSETTO:+0200
TZNAME:Europe/Berlin CEST
END:DAYLIGHT
END:VTIMEZONE
BEGIN:VEVENT
UID:11e1bcfd19ec5f8e20d0fe413ab17070
CATEGORIES:Fremder LV
CREATED:20250703T142331
SUMMARY:57. Deutsche Meisterschaft im Caravan - Geschicklichkeitsfahren
LOCATION:Campingplatz Kladow Krampnitzer Weg 111‐117 14089 Berlin
DESCRIPTION:<p>Ausgerichtet wird die&nbsp; 57. DMCG vom Landesverband Berlin auf dem Ca
 mpingplatz Berlin Kaldow.</p><p>Das <a href="images/Ausschreibungen/2025/Pr
 ogramm%20DC%2025.pdf" target="_blank">Programm</a> und die <a href="images/
 Ausschreibungen/2025/Anmeldung2.pdf" target="_blank">Anmeldung_2 </a>und <a
  href="images/Ausschreibungen/2025/Anmeldung3.pdf" target="_blank">Anmeldun
 g_3</a> findet ihr beim Anklicken.</p>
X-ALT-DESC;FMTTYPE=text/html:<p>Ausgerichtet wird die&nbsp; 57. DMCG vom Landesverband Berlin auf dem Ca
 mpingplatz Berlin Kaldow.</p><p>Das <a href="https://lv-owl.de/images/Aussc
 hreibungen/2025/Programm%20DC%2025.pdf" target="_blank">Programm</a> und di
 e <a href="https://lv-owl.de/images/Ausschreibungen/2025/Anmeldung2.pdf" ta
 rget="_blank">Anmeldung_2 </a>und <a href="https://lv-owl.de/images/Ausschr
 eibungen/2025/Anmeldung3.pdf" target="_blank">Anmeldung_3</a> findet ihr be
 im Anklicken.</p>
CONTACT:Tel. 030-218 60 71 oder per EMail: Diese E-Mail-Adresse ist vor Spambots geschützt! Zur Anzeige muss JavaScript eingeschaltet sein.
DTSTAMP:20260421T191705
DTSTART;TZID=Europe/Berlin;VALUE=DATE:20250911
DTEND;TZID=Europe/Berlin;VALUE=DATE:20250915
SEQUENCE:0
TRANSP:OPAQUE
END:VEVENT
END:VCALENDAR