BEGIN:VCALENDAR
VERSION:2.0
PRODID:-//jEvents 2.0 for Joomla//EN
CALSCALE:GREGORIAN
METHOD:PUBLISH
BEGIN:VTIMEZONE
TZID:Europe/Berlin
BEGIN:STANDARD
DTSTART:20251026T020000
RDATE:20260329T030000
TZOFFSETFROM:+0200
TZOFFSETTO:+0100
TZNAME:Europe/Berlin CET
END:STANDARD
BEGIN:STANDARD
DTSTART:20261025T020000
RDATE:20270328T030000
TZOFFSETFROM:+0200
TZOFFSETTO:+0100
TZNAME:Europe/Berlin CET
END:STANDARD
BEGIN:STANDARD
DTSTART:20271031T020000
RDATE:20280326T030000
TZOFFSETFROM:+0200
TZOFFSETTO:+0100
TZNAME:Europe/Berlin CET
END:STANDARD
BEGIN:STANDARD
DTSTART:20281029T020000
RDATE:20290325T030000
TZOFFSETFROM:+0200
TZOFFSETTO:+0100
TZNAME:Europe/Berlin CET
END:STANDARD
BEGIN:STANDARD
DTSTART:20291028T020000
RDATE:20300331T030000
TZOFFSETFROM:+0200
TZOFFSETTO:+0100
TZNAME:Europe/Berlin CET
END:STANDARD
BEGIN:STANDARD
DTSTART:20301027T020000
RDATE:20310330T030000
TZOFFSETFROM:+0200
TZOFFSETTO:+0100
TZNAME:Europe/Berlin CET
END:STANDARD
BEGIN:STANDARD
DTSTART:20311026T020000
RDATE:20320328T030000
TZOFFSETFROM:+0200
TZOFFSETTO:+0100
TZNAME:Europe/Berlin CET
END:STANDARD
BEGIN:DAYLIGHT
DTSTART:20250625T000000
RDATE:20251026T020000
TZOFFSETFROM:+0100
TZOFFSETTO:+0200
TZNAME:Europe/Berlin CEST
END:DAYLIGHT
BEGIN:DAYLIGHT
DTSTART:20260329T030000
RDATE:20261025T020000
TZOFFSETFROM:+0100
TZOFFSETTO:+0200
TZNAME:Europe/Berlin CEST
END:DAYLIGHT
BEGIN:DAYLIGHT
DTSTART:20270328T030000
RDATE:20271031T020000
TZOFFSETFROM:+0100
TZOFFSETTO:+0200
TZNAME:Europe/Berlin CEST
END:DAYLIGHT
BEGIN:DAYLIGHT
DTSTART:20280326T030000
RDATE:20281029T020000
TZOFFSETFROM:+0100
TZOFFSETTO:+0200
TZNAME:Europe/Berlin CEST
END:DAYLIGHT
BEGIN:DAYLIGHT
DTSTART:20290325T030000
RDATE:20291028T020000
TZOFFSETFROM:+0100
TZOFFSETTO:+0200
TZNAME:Europe/Berlin CEST
END:DAYLIGHT
BEGIN:DAYLIGHT
DTSTART:20300331T030000
RDATE:20301027T020000
TZOFFSETFROM:+0100
TZOFFSETTO:+0200
TZNAME:Europe/Berlin CEST
END:DAYLIGHT
BEGIN:DAYLIGHT
DTSTART:20310330T030000
RDATE:20311026T020000
TZOFFSETFROM:+0100
TZOFFSETTO:+0200
TZNAME:Europe/Berlin CEST
END:DAYLIGHT
END:VTIMEZONE
BEGIN:VEVENT
UID:b29563d988aaaa0385b225db2d07a581
CATEGORIES:LV Veranstaltung
CREATED:20250831T201410
SUMMARY:17. Jugend- und Familienrallye
LOCATION:Bürgerhaus Espeln
DESCRIPTION:Das 17. Jugend- und Familienrallye findet auf dem Gelände des Bürgerhaus Es
 peln in Hövelhof statt.\nUnter dem Motto "Camp der Kontinente - Stadion tri
 fft Lagerfeuer" gibt es wieder jede Menge Programm für die Kids.\nAlles wei
 tere findet ihr in der Ausschreibung (images/Ausschreibungen/2026/Ausschrei
 bung_Jugendrallye_2026.pdf) und der Anmeldung (images/Ausschreibungen/2026/
 Anmeldung_Jugendrallye_2026.pdf).\n
X-ALT-DESC;FMTTYPE=text/html:<p>Das 17. Jugend- und Familienrallye findet auf dem Gelände des Bürgerhaus
  Espeln in Hövelhof statt.<br />Unter dem Motto "Camp der Kontinente - Stad
 ion trifft Lagerfeuer" gibt es wieder jede Menge Programm für die Kids.<br 
 />Alles weitere findet ihr in der <a href="https://lv-owl.de/images/Ausschr
 eibungen/2026/Ausschreibung_Jugendrallye_2026.pdf" target="_blank">Ausschre
 ibung</a> und der <a href="https://lv-owl.de/images/Ausschreibungen/2026/An
 meldung_Jugendrallye_2026.pdf" target="_blank">Anmeldung</a>.</p>
DTSTAMP:20260421T125032
DTSTART;TZID=Europe/Berlin;VALUE=DATE:20260626
DTEND;TZID=Europe/Berlin;VALUE=DATE:20260629
SEQUENCE:0
TRANSP:OPAQUE
END:VEVENT
END:VCALENDAR