BEGIN:VCALENDAR
VERSION:2.0
PRODID:-//jEvents 2.0 for Joomla//EN
CALSCALE:GREGORIAN
METHOD:PUBLISH
BEGIN:VTIMEZONE
TZID:Europe/Berlin
BEGIN:STANDARD
DTSTART:20250305T000000
RDATE:20250330T030000
TZOFFSETFROM:+0200
TZOFFSETTO:+0100
TZNAME:Europe/Berlin CET
END:STANDARD
BEGIN:STANDARD
DTSTART:20251026T020000
RDATE:20260329T030000
TZOFFSETFROM:+0200
TZOFFSETTO:+0100
TZNAME:Europe/Berlin CET
END:STANDARD
BEGIN:STANDARD
DTSTART:20261025T020000
RDATE:20270328T030000
TZOFFSETFROM:+0200
TZOFFSETTO:+0100
TZNAME:Europe/Berlin CET
END:STANDARD
BEGIN:STANDARD
DTSTART:20271031T020000
RDATE:20280326T030000
TZOFFSETFROM:+0200
TZOFFSETTO:+0100
TZNAME:Europe/Berlin CET
END:STANDARD
BEGIN:STANDARD
DTSTART:20281029T020000
RDATE:20290325T030000
TZOFFSETFROM:+0200
TZOFFSETTO:+0100
TZNAME:Europe/Berlin CET
END:STANDARD
BEGIN:STANDARD
DTSTART:20291028T020000
RDATE:20300331T030000
TZOFFSETFROM:+0200
TZOFFSETTO:+0100
TZNAME:Europe/Berlin CET
END:STANDARD
BEGIN:STANDARD
DTSTART:20301027T020000
RDATE:20310330T030000
TZOFFSETFROM:+0200
TZOFFSETTO:+0100
TZNAME:Europe/Berlin CET
END:STANDARD
BEGIN:STANDARD
DTSTART:20311026T020000
RDATE:20320328T030000
TZOFFSETFROM:+0200
TZOFFSETTO:+0100
TZNAME:Europe/Berlin CET
END:STANDARD
BEGIN:DAYLIGHT
DTSTART:20250330T030000
RDATE:20251026T020000
TZOFFSETFROM:+0100
TZOFFSETTO:+0200
TZNAME:Europe/Berlin CEST
END:DAYLIGHT
BEGIN:DAYLIGHT
DTSTART:20260329T030000
RDATE:20261025T020000
TZOFFSETFROM:+0100
TZOFFSETTO:+0200
TZNAME:Europe/Berlin CEST
END:DAYLIGHT
BEGIN:DAYLIGHT
DTSTART:20270328T030000
RDATE:20271031T020000
TZOFFSETFROM:+0100
TZOFFSETTO:+0200
TZNAME:Europe/Berlin CEST
END:DAYLIGHT
BEGIN:DAYLIGHT
DTSTART:20280326T030000
RDATE:20281029T020000
TZOFFSETFROM:+0100
TZOFFSETTO:+0200
TZNAME:Europe/Berlin CEST
END:DAYLIGHT
BEGIN:DAYLIGHT
DTSTART:20290325T030000
RDATE:20291028T020000
TZOFFSETFROM:+0100
TZOFFSETTO:+0200
TZNAME:Europe/Berlin CEST
END:DAYLIGHT
BEGIN:DAYLIGHT
DTSTART:20300331T030000
RDATE:20301027T020000
TZOFFSETFROM:+0100
TZOFFSETTO:+0200
TZNAME:Europe/Berlin CEST
END:DAYLIGHT
BEGIN:DAYLIGHT
DTSTART:20310330T030000
RDATE:20311026T020000
TZOFFSETFROM:+0100
TZOFFSETTO:+0200
TZNAME:Europe/Berlin CEST
END:DAYLIGHT
END:VTIMEZONE
BEGIN:VEVENT
UID:f4d7c680e186e57e43b38d33de094a56
CATEGORIES:LV Veranstaltung
CREATED:20250924T132202
SUMMARY:JHV des LV OWL
LOCATION:Campingplatz Bullenranch
DESCRIPTION:Die Jahreshauptversammlung des LV OWL findet am Sonntag, den 08.03.26 auf d
 em Campingplatz Bullenranch statt.\nWie auch in den vergangenen Jahren freu
 en wir uns über eine rege Beteiligung, gerne auch in Verbindung mit einem g
 eselligen Wochenende.\nNäheres dazu findet ihr in der Ausschreibung (images
 /Ausschreibungen/2025/Ausschreibung%20CA%20und%20JHV%202026.pdf) bzw. in de
 r Anmeldung (images/Ausschreibungen/2025/Anmeldung%20CA%20und%20JHV%202026.
 pdf).\n \n
X-ALT-DESC;FMTTYPE=text/html:<p>Die <strong>Jahreshauptversammlung</strong> des LV OWL findet am <strong
 >Sonntag, den 08.03.26</strong> auf dem Campingplatz Bullenranch statt.<br 
 />Wie auch in den vergangenen Jahren freuen wir uns über eine rege Beteilig
 ung, gerne auch in Verbindung mit einem geselligen Wochenende.</p><p>Nähere
 s dazu findet ihr in der <a href="https://lv-owl.de/images/Ausschreibungen/
 2025/Ausschreibung%20CA%20und%20JHV%202026.pdf" target="_blank">Ausschreibu
 ng</a> bzw. in der <a href="https://lv-owl.de/images/Ausschreibungen/2025/A
 nmeldung%20CA%20und%20JHV%202026.pdf" target="_blank">Anmeldung</a>.</p><p>
 &nbsp;</p>
DTSTAMP:20260421T172521
DTSTART;TZID=Europe/Berlin;VALUE=DATE:20260306
DTEND;TZID=Europe/Berlin;VALUE=DATE:20260309
SEQUENCE:0
TRANSP:OPAQUE
END:VEVENT
END:VCALENDAR