BEGIN:VCALENDAR
VERSION:2.0
PRODID:-//jEvents 2.0 for Joomla//EN
CALSCALE:GREGORIAN
METHOD:PUBLISH
BEGIN:VTIMEZONE
TZID:Europe/Berlin
BEGIN:STANDARD
DTSTART:20251026T020000
RDATE:20260329T030000
TZOFFSETFROM:+0200
TZOFFSETTO:+0100
TZNAME:Europe/Berlin CET
END:STANDARD
BEGIN:STANDARD
DTSTART:20261025T020000
RDATE:20270328T030000
TZOFFSETFROM:+0200
TZOFFSETTO:+0100
TZNAME:Europe/Berlin CET
END:STANDARD
BEGIN:STANDARD
DTSTART:20271031T020000
RDATE:20280326T030000
TZOFFSETFROM:+0200
TZOFFSETTO:+0100
TZNAME:Europe/Berlin CET
END:STANDARD
BEGIN:STANDARD
DTSTART:20281029T020000
RDATE:20290325T030000
TZOFFSETFROM:+0200
TZOFFSETTO:+0100
TZNAME:Europe/Berlin CET
END:STANDARD
BEGIN:STANDARD
DTSTART:20291028T020000
RDATE:20300331T030000
TZOFFSETFROM:+0200
TZOFFSETTO:+0100
TZNAME:Europe/Berlin CET
END:STANDARD
BEGIN:STANDARD
DTSTART:20301027T020000
RDATE:20310330T030000
TZOFFSETFROM:+0200
TZOFFSETTO:+0100
TZNAME:Europe/Berlin CET
END:STANDARD
BEGIN:STANDARD
DTSTART:20311026T020000
RDATE:20320328T030000
TZOFFSETFROM:+0200
TZOFFSETTO:+0100
TZNAME:Europe/Berlin CET
END:STANDARD
BEGIN:DAYLIGHT
DTSTART:20250416T000000
RDATE:20251026T020000
TZOFFSETFROM:+0100
TZOFFSETTO:+0200
TZNAME:Europe/Berlin CEST
END:DAYLIGHT
BEGIN:DAYLIGHT
DTSTART:20260329T030000
RDATE:20261025T020000
TZOFFSETFROM:+0100
TZOFFSETTO:+0200
TZNAME:Europe/Berlin CEST
END:DAYLIGHT
BEGIN:DAYLIGHT
DTSTART:20270328T030000
RDATE:20271031T020000
TZOFFSETFROM:+0100
TZOFFSETTO:+0200
TZNAME:Europe/Berlin CEST
END:DAYLIGHT
BEGIN:DAYLIGHT
DTSTART:20280326T030000
RDATE:20281029T020000
TZOFFSETFROM:+0100
TZOFFSETTO:+0200
TZNAME:Europe/Berlin CEST
END:DAYLIGHT
BEGIN:DAYLIGHT
DTSTART:20290325T030000
RDATE:20291028T020000
TZOFFSETFROM:+0100
TZOFFSETTO:+0200
TZNAME:Europe/Berlin CEST
END:DAYLIGHT
BEGIN:DAYLIGHT
DTSTART:20300331T030000
RDATE:20301027T020000
TZOFFSETFROM:+0100
TZOFFSETTO:+0200
TZNAME:Europe/Berlin CEST
END:DAYLIGHT
BEGIN:DAYLIGHT
DTSTART:20310330T030000
RDATE:20311026T020000
TZOFFSETFROM:+0100
TZOFFSETTO:+0200
TZNAME:Europe/Berlin CEST
END:DAYLIGHT
END:VTIMEZONE
BEGIN:VEVENT
UID:c9923f9b88121a8766670e947d384b57
CATEGORIES:LV Veranstaltung
CREATED:20250924T132320
SUMMARY:Anzelten des LV OWL 2026
LOCATION:Campingplatz Bullenranch
DESCRIPTION:<p>Das Anzelten des LV OWL findet 2026 auf dem Campingplatz Bullenranch in 
 Sudhagen statt.<br />Der Bielefelder CC freut sich darauf, euch ein wunders
 chönes Wochenende bereiten zu dürfen.</p><p>Alles weitere findet ihr in der
  <a href="images/Ausschreibungen/2025/Ausschreibung%20LV%20Anzelten%202026%
 201.pdf" target="_blank">Ausschreibung</a> und der <a href="images/Ausschre
 ibungen/2025/Anmeldung%20LV%20Anzelten%202026.pdf" target="_blank">Anmeldun
 g</a>.</p>
X-ALT-DESC;FMTTYPE=text/html:<p>Das Anzelten des LV OWL findet 2026 auf dem Campingplatz Bullenranch in 
 Sudhagen statt.<br />Der Bielefelder CC freut sich darauf, euch ein wunders
 chönes Wochenende bereiten zu dürfen.</p><p>Alles weitere findet ihr in der
  <a href="https://lv-owl.de/images/Ausschreibungen/2025/Ausschreibung%20LV%
 20Anzelten%202026%201.pdf" target="_blank">Ausschreibung</a> und der <a hre
 f="https://lv-owl.de/images/Ausschreibungen/2025/Anmeldung%20LV%20Anzelten%
 202026.pdf" target="_blank">Anmeldung</a>.</p>
DTSTAMP:20260421T173807
DTSTART;TZID=Europe/Berlin;VALUE=DATE:20260417
DTEND;TZID=Europe/Berlin;VALUE=DATE:20260420
SEQUENCE:0
TRANSP:OPAQUE
END:VEVENT
END:VCALENDAR