BEGIN:VCALENDAR
VERSION:2.0
PRODID:-//jEvents 2.0 for Joomla//EN
CALSCALE:GREGORIAN
METHOD:PUBLISH
BEGIN:VTIMEZONE
TZID:Europe/Berlin
BEGIN:STANDARD
DTSTART:20241027T020000
RDATE:20250330T030000
TZOFFSETFROM:+0200
TZOFFSETTO:+0100
TZNAME:Europe/Berlin CET
END:STANDARD
BEGIN:STANDARD
DTSTART:20251026T020000
RDATE:20260329T030000
TZOFFSETFROM:+0200
TZOFFSETTO:+0100
TZNAME:Europe/Berlin CET
END:STANDARD
BEGIN:STANDARD
DTSTART:20261025T020000
RDATE:20270328T030000
TZOFFSETFROM:+0200
TZOFFSETTO:+0100
TZNAME:Europe/Berlin CET
END:STANDARD
BEGIN:STANDARD
DTSTART:20271031T020000
RDATE:20280326T030000
TZOFFSETFROM:+0200
TZOFFSETTO:+0100
TZNAME:Europe/Berlin CET
END:STANDARD
BEGIN:STANDARD
DTSTART:20281029T020000
RDATE:20290325T030000
TZOFFSETFROM:+0200
TZOFFSETTO:+0100
TZNAME:Europe/Berlin CET
END:STANDARD
BEGIN:STANDARD
DTSTART:20291028T020000
RDATE:20300331T030000
TZOFFSETFROM:+0200
TZOFFSETTO:+0100
TZNAME:Europe/Berlin CET
END:STANDARD
BEGIN:STANDARD
DTSTART:20301027T020000
RDATE:20310330T030000
TZOFFSETFROM:+0200
TZOFFSETTO:+0100
TZNAME:Europe/Berlin CET
END:STANDARD
BEGIN:STANDARD
DTSTART:20311026T020000
RDATE:20320328T030000
TZOFFSETFROM:+0200
TZOFFSETTO:+0100
TZNAME:Europe/Berlin CET
END:STANDARD
BEGIN:DAYLIGHT
DTSTART:20240430T000000
RDATE:20241027T020000
TZOFFSETFROM:+0100
TZOFFSETTO:+0200
TZNAME:Europe/Berlin CEST
END:DAYLIGHT
BEGIN:DAYLIGHT
DTSTART:20250330T030000
RDATE:20251026T020000
TZOFFSETFROM:+0100
TZOFFSETTO:+0200
TZNAME:Europe/Berlin CEST
END:DAYLIGHT
BEGIN:DAYLIGHT
DTSTART:20260329T030000
RDATE:20261025T020000
TZOFFSETFROM:+0100
TZOFFSETTO:+0200
TZNAME:Europe/Berlin CEST
END:DAYLIGHT
BEGIN:DAYLIGHT
DTSTART:20270328T030000
RDATE:20271031T020000
TZOFFSETFROM:+0100
TZOFFSETTO:+0200
TZNAME:Europe/Berlin CEST
END:DAYLIGHT
BEGIN:DAYLIGHT
DTSTART:20280326T030000
RDATE:20281029T020000
TZOFFSETFROM:+0100
TZOFFSETTO:+0200
TZNAME:Europe/Berlin CEST
END:DAYLIGHT
BEGIN:DAYLIGHT
DTSTART:20290325T030000
RDATE:20291028T020000
TZOFFSETFROM:+0100
TZOFFSETTO:+0200
TZNAME:Europe/Berlin CEST
END:DAYLIGHT
BEGIN:DAYLIGHT
DTSTART:20300331T030000
RDATE:20301027T020000
TZOFFSETFROM:+0100
TZOFFSETTO:+0200
TZNAME:Europe/Berlin CEST
END:DAYLIGHT
BEGIN:DAYLIGHT
DTSTART:20310330T030000
RDATE:20311026T020000
TZOFFSETFROM:+0100
TZOFFSETTO:+0200
TZNAME:Europe/Berlin CEST
END:DAYLIGHT
END:VTIMEZONE
BEGIN:VEVENT
UID:beed0aee247b94aae8e17e2db89edeaf
CATEGORIES:LV Veranstaltung
CREATED:20250426T200126
SUMMARY:Fahrt ins Blaue
LOCATION:Überraschung
DESCRIPTION:<p>Unser LV Touristik-Referent Michael Gitzel plant eine Fahrt ins Blaue,<b
 r /> die vom 01.05. – 04.05.2025 stattfinden soll. Diese Ausfahrt ist eine 
 Rallye, bei der das Ziel im Vorfeld unbekannt ist und den Teilnehmern die M
 öglichkeit gibt, etwas Neues kennenzulernen und irgendwo anzukommen. Freut 
 Euch auf einige Tage des gemütlichen Beisammenseins, auf schöne, tolle Ausf
 lüge und Erkundungen in der Umgebung.<br /> Lasst Euch überraschen und Mich
 ael Gitzel würde sich freuen, Euch bald begrüßen zu dürfen.</p><p>Kontakt:<
 br />EMail: <a href="index.php?option=com_contact&amp;view=contact&amp;id=6
 &amp;catid=10">Michael Gitzel<br /></a>Telefon: 0172 3236621</p><p>Die Auss
 chreibung findet ihr <a href="images/Ausschreibungen/2025/Richtige-Ausschre
 ibung-Fahrt-ins-Blaue.pdf" target="_blank">hier</a>.</p>
X-ALT-DESC;FMTTYPE=text/html:<p>Unser LV Touristik-Referent Michael Gitzel plant eine Fahrt ins Blaue,<b
 r /> die vom 01.05. – 04.05.2025 stattfinden soll. Diese Ausfahrt ist eine 
 Rallye, bei der das Ziel im Vorfeld unbekannt ist und den Teilnehmern die M
 öglichkeit gibt, etwas Neues kennenzulernen und irgendwo anzukommen. Freut 
 Euch auf einige Tage des gemütlichen Beisammenseins, auf schöne, tolle Ausf
 lüge und Erkundungen in der Umgebung.<br /> Lasst Euch überraschen und Mich
 ael Gitzel würde sich freuen, Euch bald begrüßen zu dürfen.</p><p>Kontakt:<
 br />EMail: <a href="https://lv-owl.de/index.php?option=com_contact&amp;vie
 w=contact&amp;id=6&amp;catid=10">Michael Gitzel<br /></a>Telefon: 0172 3236
 621</p><p>Die Ausschreibung findet ihr <a href="https://lv-owl.de/images/Au
 sschreibungen/2025/Richtige-Ausschreibung-Fahrt-ins-Blaue.pdf" target="_bla
 nk">hier</a>.</p>
X-EXTRAINFO:Anmeldeschluss bis 21.04.2025
DTSTAMP:20260421T212200
DTSTART;TZID=Europe/Berlin;VALUE=DATE:20250501
DTEND;TZID=Europe/Berlin;VALUE=DATE:20250505
SEQUENCE:0
TRANSP:OPAQUE
END:VEVENT
END:VCALENDAR