BEGIN:VCALENDAR
VERSION:2.0
PRODID:-//jEvents 2.0 for Joomla//EN
CALSCALE:GREGORIAN
METHOD:PUBLISH
BEGIN:VTIMEZONE
TZID:Europe/Berlin
BEGIN:STANDARD
DTSTART:20250219T160000
RDATE:20250330T030000
TZOFFSETFROM:+0200
TZOFFSETTO:+0100
TZNAME:Europe/Berlin CET
END:STANDARD
BEGIN:STANDARD
DTSTART:20251026T020000
RDATE:20260329T030000
TZOFFSETFROM:+0200
TZOFFSETTO:+0100
TZNAME:Europe/Berlin CET
END:STANDARD
BEGIN:STANDARD
DTSTART:20261025T020000
RDATE:20270328T030000
TZOFFSETFROM:+0200
TZOFFSETTO:+0100
TZNAME:Europe/Berlin CET
END:STANDARD
BEGIN:STANDARD
DTSTART:20271031T020000
RDATE:20280326T030000
TZOFFSETFROM:+0200
TZOFFSETTO:+0100
TZNAME:Europe/Berlin CET
END:STANDARD
BEGIN:STANDARD
DTSTART:20281029T020000
RDATE:20290325T030000
TZOFFSETFROM:+0200
TZOFFSETTO:+0100
TZNAME:Europe/Berlin CET
END:STANDARD
BEGIN:STANDARD
DTSTART:20291028T020000
RDATE:20300331T030000
TZOFFSETFROM:+0200
TZOFFSETTO:+0100
TZNAME:Europe/Berlin CET
END:STANDARD
BEGIN:STANDARD
DTSTART:20301027T020000
RDATE:20310330T030000
TZOFFSETFROM:+0200
TZOFFSETTO:+0100
TZNAME:Europe/Berlin CET
END:STANDARD
BEGIN:STANDARD
DTSTART:20311026T020000
RDATE:20320328T030000
TZOFFSETFROM:+0200
TZOFFSETTO:+0100
TZNAME:Europe/Berlin CET
END:STANDARD
BEGIN:DAYLIGHT
DTSTART:20250330T030000
RDATE:20251026T020000
TZOFFSETFROM:+0100
TZOFFSETTO:+0200
TZNAME:Europe/Berlin CEST
END:DAYLIGHT
BEGIN:DAYLIGHT
DTSTART:20260329T030000
RDATE:20261025T020000
TZOFFSETFROM:+0100
TZOFFSETTO:+0200
TZNAME:Europe/Berlin CEST
END:DAYLIGHT
BEGIN:DAYLIGHT
DTSTART:20270328T030000
RDATE:20271031T020000
TZOFFSETFROM:+0100
TZOFFSETTO:+0200
TZNAME:Europe/Berlin CEST
END:DAYLIGHT
BEGIN:DAYLIGHT
DTSTART:20280326T030000
RDATE:20281029T020000
TZOFFSETFROM:+0100
TZOFFSETTO:+0200
TZNAME:Europe/Berlin CEST
END:DAYLIGHT
BEGIN:DAYLIGHT
DTSTART:20290325T030000
RDATE:20291028T020000
TZOFFSETFROM:+0100
TZOFFSETTO:+0200
TZNAME:Europe/Berlin CEST
END:DAYLIGHT
BEGIN:DAYLIGHT
DTSTART:20300331T030000
RDATE:20301027T020000
TZOFFSETFROM:+0100
TZOFFSETTO:+0200
TZNAME:Europe/Berlin CEST
END:DAYLIGHT
BEGIN:DAYLIGHT
DTSTART:20310330T030000
RDATE:20311026T020000
TZOFFSETFROM:+0100
TZOFFSETTO:+0200
TZNAME:Europe/Berlin CEST
END:DAYLIGHT
END:VTIMEZONE
BEGIN:VEVENT
UID:7fe3b763421d1cab5b65c17a6e8085bd
CATEGORIES:LV Veranstaltung
CREATED:20260103T115626
SUMMARY:Word/Excel Rallye
DESCRIPTION:Wir wollen denjenigen unter Euch, die schon mal dabei waren, aber noch imme
 r nicht so viel mit Word und Excel zu tun hatten, eine Auffrischung des Wis
 sens anbieten.\nDer gemütliche Klönabend mit Fachsimpeln darf natürlich nic
 ht fehlen.\nHier findet ihr die Ausschreibung Word/Excel Rallye (images/Aus
 schreibungen/2026/Word%20Excel%20Rallye/Excel%20Rallye.pdf) und die Anmeldu
 ng Word/Excel Rallye (images/Ausschreibungen/2026/Word%20Excel%20Rallye/Anm
 eldung.pdf).\nEine Anreise vor 16 Uhr ist nicht möglich!\n
X-ALT-DESC;FMTTYPE=text/html:<p>Wir wollen denjenigen unter Euch, die schon mal dabei waren, aber noch i
 mmer nicht so viel mit Word und Excel zu tun hatten, eine Auffrischung des 
 Wissens anbieten.<br />Der gemütliche Klönabend mit Fachsimpeln darf natürl
 ich nicht fehlen.</p><p>Hier findet ihr die <a href="https://lv-owl.de/imag
 es/Ausschreibungen/2026/Word%20Excel%20Rallye/Excel%20Rallye.pdf" target="_
 blank">Ausschreibung Word/Excel Rallye</a> und die <a href="https://lv-owl.
 de/images/Ausschreibungen/2026/Word%20Excel%20Rallye/Anmeldung.pdf" target=
 "_blank">Anmeldung Word/Excel Rallye</a>.<br />Eine Anreise vor 16 Uhr ist 
 nicht möglich!</p>
DTSTAMP:20260422T023031
DTSTART;TZID=Europe/Berlin:20260220T160000
DTEND;TZID=Europe/Berlin;VALUE=DATE:20260223
SEQUENCE:0
TRANSP:OPAQUE
END:VEVENT
END:VCALENDAR