BEGIN:VCALENDAR
VERSION:2.0
PRODID:-//jEvents 2.0 for Joomla//EN
CALSCALE:GREGORIAN
METHOD:PUBLISH
BEGIN:VTIMEZONE
TZID:Europe/Berlin
BEGIN:STANDARD
DTSTART:20241027T020000
RDATE:20250330T030000
TZOFFSETFROM:+0200
TZOFFSETTO:+0100
TZNAME:Europe/Berlin CET
END:STANDARD
BEGIN:STANDARD
DTSTART:20251026T020000
RDATE:20260329T030000
TZOFFSETFROM:+0200
TZOFFSETTO:+0100
TZNAME:Europe/Berlin CET
END:STANDARD
BEGIN:STANDARD
DTSTART:20261025T020000
RDATE:20270328T030000
TZOFFSETFROM:+0200
TZOFFSETTO:+0100
TZNAME:Europe/Berlin CET
END:STANDARD
BEGIN:STANDARD
DTSTART:20271031T020000
RDATE:20280326T030000
TZOFFSETFROM:+0200
TZOFFSETTO:+0100
TZNAME:Europe/Berlin CET
END:STANDARD
BEGIN:STANDARD
DTSTART:20281029T020000
RDATE:20290325T030000
TZOFFSETFROM:+0200
TZOFFSETTO:+0100
TZNAME:Europe/Berlin CET
END:STANDARD
BEGIN:STANDARD
DTSTART:20291028T020000
RDATE:20300331T030000
TZOFFSETFROM:+0200
TZOFFSETTO:+0100
TZNAME:Europe/Berlin CET
END:STANDARD
BEGIN:STANDARD
DTSTART:20301027T020000
RDATE:20310330T030000
TZOFFSETFROM:+0200
TZOFFSETTO:+0100
TZNAME:Europe/Berlin CET
END:STANDARD
BEGIN:STANDARD
DTSTART:20311026T020000
RDATE:20320328T030000
TZOFFSETFROM:+0200
TZOFFSETTO:+0100
TZNAME:Europe/Berlin CET
END:STANDARD
BEGIN:DAYLIGHT
DTSTART:20240508T000000
RDATE:20241027T020000
TZOFFSETFROM:+0100
TZOFFSETTO:+0200
TZNAME:Europe/Berlin CEST
END:DAYLIGHT
BEGIN:DAYLIGHT
DTSTART:20250330T030000
RDATE:20251026T020000
TZOFFSETFROM:+0100
TZOFFSETTO:+0200
TZNAME:Europe/Berlin CEST
END:DAYLIGHT
BEGIN:DAYLIGHT
DTSTART:20260329T030000
RDATE:20261025T020000
TZOFFSETFROM:+0100
TZOFFSETTO:+0200
TZNAME:Europe/Berlin CEST
END:DAYLIGHT
BEGIN:DAYLIGHT
DTSTART:20270328T030000
RDATE:20271031T020000
TZOFFSETFROM:+0100
TZOFFSETTO:+0200
TZNAME:Europe/Berlin CEST
END:DAYLIGHT
BEGIN:DAYLIGHT
DTSTART:20280326T030000
RDATE:20281029T020000
TZOFFSETFROM:+0100
TZOFFSETTO:+0200
TZNAME:Europe/Berlin CEST
END:DAYLIGHT
BEGIN:DAYLIGHT
DTSTART:20290325T030000
RDATE:20291028T020000
TZOFFSETFROM:+0100
TZOFFSETTO:+0200
TZNAME:Europe/Berlin CEST
END:DAYLIGHT
BEGIN:DAYLIGHT
DTSTART:20300331T030000
RDATE:20301027T020000
TZOFFSETFROM:+0100
TZOFFSETTO:+0200
TZNAME:Europe/Berlin CEST
END:DAYLIGHT
BEGIN:DAYLIGHT
DTSTART:20310330T030000
RDATE:20311026T020000
TZOFFSETFROM:+0100
TZOFFSETTO:+0200
TZNAME:Europe/Berlin CEST
END:DAYLIGHT
END:VTIMEZONE
BEGIN:VEVENT
UID:b9e4c8bc67e7aa89bf3856261e29b677
CATEGORIES:LV Veranstaltung
CREATED:20250426T213228
SUMMARY:Welcome Wochenende
LOCATION:Campingplatz ´´Am Furlbach´´ Am Furlbach 33 33758 Schloß Holte-Stukenbrock
DESCRIPTION:Alle Neu-Mitglieder sind herzlich eingeladen ein schönes Wochenende unter G
 leichgesinnten zu verbringen.\n Im Vordergrund steht natürlich viel Informa
 tives zu unserem Landesverband und dem ganzen Verein DCC (Deutscher Camping
  Club). Aber auch der Spaß kommt nicht zu kurz. Für das leibliche Wohl wird
  gesorgt und wir freuen uns auf fröhliche Stunden und schöne Gespräche mit 
 Jung und Alt.\nKontakt:\nEMail: Björn Buxot\n (index.php?option=com_contact
 &amp;view=contact&amp;id=1&amp;catid=10)Telefon: 0151 56548950\nWeitere Inf
 os findet ihr hier (images/Ausschreibungen/2025/2025-Rahmenprogramm-Welcome
 .pdf).\n
X-ALT-DESC;FMTTYPE=text/html:<p>Alle Neu-Mitglieder sind herzlich eingeladen ein schönes Wochenende unte
 r Gleichgesinnten zu verbringen.<br /> Im Vordergrund steht natürlich viel 
 Informatives zu unserem Landesverband und dem ganzen Verein DCC (Deutscher 
 Camping Club). Aber auch der Spaß kommt nicht zu kurz. Für das leibliche Wo
 hl wird gesorgt und wir freuen uns auf fröhliche Stunden und schöne Gespräc
 he mit Jung und Alt.</p><p>Kontakt:</p><p>EMail: <a href="https://lv-owl.de
 /index.php?option=com_contact&amp;view=contact&amp;id=1&amp;catid=10">Björn
  Buxot<br /></a>Telefon: 0151 56548950</p><p>Weitere Infos findet ihr <a hr
 ef="https://lv-owl.de/images/Ausschreibungen/2025/2025-Rahmenprogramm-Welco
 me.pdf" target="_self">hier</a>.</p>
DTSTAMP:20260421T224406
DTSTART;TZID=Europe/Berlin;VALUE=DATE:20250509
DTEND;TZID=Europe/Berlin;VALUE=DATE:20250512
SEQUENCE:0
TRANSP:OPAQUE
END:VEVENT
END:VCALENDAR