BEGIN:VCALENDAR
VERSION:2.0
PRODID:-//jEvents 2.0 for Joomla//EN
CALSCALE:GREGORIAN
METHOD:PUBLISH
BEGIN:VTIMEZONE
TZID:Europe/Berlin
BEGIN:STANDARD
DTSTART:20241226T000000
RDATE:20250330T030000
TZOFFSETFROM:+0200
TZOFFSETTO:+0100
TZNAME:Europe/Berlin CET
END:STANDARD
BEGIN:STANDARD
DTSTART:20251026T020000
RDATE:20260329T030000
TZOFFSETFROM:+0200
TZOFFSETTO:+0100
TZNAME:Europe/Berlin CET
END:STANDARD
BEGIN:STANDARD
DTSTART:20261025T020000
RDATE:20270328T030000
TZOFFSETFROM:+0200
TZOFFSETTO:+0100
TZNAME:Europe/Berlin CET
END:STANDARD
BEGIN:STANDARD
DTSTART:20271031T020000
RDATE:20280326T030000
TZOFFSETFROM:+0200
TZOFFSETTO:+0100
TZNAME:Europe/Berlin CET
END:STANDARD
BEGIN:STANDARD
DTSTART:20281029T020000
RDATE:20290325T030000
TZOFFSETFROM:+0200
TZOFFSETTO:+0100
TZNAME:Europe/Berlin CET
END:STANDARD
BEGIN:STANDARD
DTSTART:20291028T020000
RDATE:20300331T030000
TZOFFSETFROM:+0200
TZOFFSETTO:+0100
TZNAME:Europe/Berlin CET
END:STANDARD
BEGIN:STANDARD
DTSTART:20301027T020000
RDATE:20310330T030000
TZOFFSETFROM:+0200
TZOFFSETTO:+0100
TZNAME:Europe/Berlin CET
END:STANDARD
BEGIN:STANDARD
DTSTART:20311026T020000
RDATE:20320328T030000
TZOFFSETFROM:+0200
TZOFFSETTO:+0100
TZNAME:Europe/Berlin CET
END:STANDARD
BEGIN:DAYLIGHT
DTSTART:20250330T030000
RDATE:20251026T020000
TZOFFSETFROM:+0100
TZOFFSETTO:+0200
TZNAME:Europe/Berlin CEST
END:DAYLIGHT
BEGIN:DAYLIGHT
DTSTART:20260329T030000
RDATE:20261025T020000
TZOFFSETFROM:+0100
TZOFFSETTO:+0200
TZNAME:Europe/Berlin CEST
END:DAYLIGHT
BEGIN:DAYLIGHT
DTSTART:20270328T030000
RDATE:20271031T020000
TZOFFSETFROM:+0100
TZOFFSETTO:+0200
TZNAME:Europe/Berlin CEST
END:DAYLIGHT
BEGIN:DAYLIGHT
DTSTART:20280326T030000
RDATE:20281029T020000
TZOFFSETFROM:+0100
TZOFFSETTO:+0200
TZNAME:Europe/Berlin CEST
END:DAYLIGHT
BEGIN:DAYLIGHT
DTSTART:20290325T030000
RDATE:20291028T020000
TZOFFSETFROM:+0100
TZOFFSETTO:+0200
TZNAME:Europe/Berlin CEST
END:DAYLIGHT
BEGIN:DAYLIGHT
DTSTART:20300331T030000
RDATE:20301027T020000
TZOFFSETFROM:+0100
TZOFFSETTO:+0200
TZNAME:Europe/Berlin CEST
END:DAYLIGHT
BEGIN:DAYLIGHT
DTSTART:20310330T030000
RDATE:20311026T020000
TZOFFSETFROM:+0100
TZOFFSETTO:+0200
TZNAME:Europe/Berlin CEST
END:DAYLIGHT
END:VTIMEZONE
BEGIN:VEVENT
UID:6425d6049ee093923d1cdde02865dbbe
CATEGORIES:LV Veranstaltung
CREATED:20250427T010556
SUMMARY:Silvester - Rallye in Staatshausen (Schneestern)
DESCRIPTION:Die Rallye ist bereits ausgebucht (Warteliste!)\nDie Ausschreibung (images/
 Ausschreibungen/2025/Ausschreibung-Silvester-Rallye-2025-2026-Internet.pdf)
  und Anmeldung  (images/Ausschreibungen/2025/Anmeldung-Silvester-Rallye-202
 5-2026.pdf)findet ihr hier.\nKontakt:\nEMail: Michael Gitzel\n (index.php?o
 ption=com_contact&amp;view=contact&amp;id=6&amp;catid=10)Telefon: 0172 3236
 621\n
X-ALT-DESC;FMTTYPE=text/html:<p><strong>Die Rallye ist bereits ausgebucht (Warteliste!)</strong></p><p>D
 ie <a href="https://lv-owl.de/images/Ausschreibungen/2025/Ausschreibung-Sil
 vester-Rallye-2025-2026-Internet.pdf">Ausschreibung</a> und <a href="https:
 //lv-owl.de/images/Ausschreibungen/2025/Anmeldung-Silvester-Rallye-2025-202
 6.pdf">Anmeldung </a>findet ihr hier.</p><p>Kontakt:</p><p>EMail: <a href="
 https://lv-owl.de/index.php?option=com_contact&amp;view=contact&amp;id=6&am
 p;catid=10">Michael Gitzel<br /></a>Telefon: 0172 3236621</p>
DTSTAMP:20260422T012153
DTSTART;TZID=Europe/Berlin;VALUE=DATE:20251227
DTEND;TZID=Europe/Berlin;VALUE=DATE:20260105
SEQUENCE:0
TRANSP:OPAQUE
END:VEVENT
END:VCALENDAR